BEGIN:VCALENDAR
VERSION:2.0
PRODID:-//Fairmount Presbyterian Church - ECPv6.15.17.1//NONSGML v1.0//EN
CALSCALE:GREGORIAN
METHOD:PUBLISH
X-ORIGINAL-URL:https://www.fpccle.org
X-WR-CALDESC:Events for Fairmount Presbyterian Church
REFRESH-INTERVAL;VALUE=DURATION:PT1H
X-Robots-Tag:noindex
X-PUBLISHED-TTL:PT1H
BEGIN:VTIMEZONE
TZID:America/New_York
BEGIN:DAYLIGHT
TZOFFSETFROM:-0500
TZOFFSETTO:-0400
TZNAME:EDT
DTSTART:20250309T070000
END:DAYLIGHT
BEGIN:STANDARD
TZOFFSETFROM:-0400
TZOFFSETTO:-0500
TZNAME:EST
DTSTART:20251102T060000
END:STANDARD
BEGIN:DAYLIGHT
TZOFFSETFROM:-0500
TZOFFSETTO:-0400
TZNAME:EDT
DTSTART:20260308T070000
END:DAYLIGHT
BEGIN:STANDARD
TZOFFSETFROM:-0400
TZOFFSETTO:-0500
TZNAME:EST
DTSTART:20261101T060000
END:STANDARD
BEGIN:DAYLIGHT
TZOFFSETFROM:-0500
TZOFFSETTO:-0400
TZNAME:EDT
DTSTART:20270314T070000
END:DAYLIGHT
BEGIN:STANDARD
TZOFFSETFROM:-0400
TZOFFSETTO:-0500
TZNAME:EST
DTSTART:20271107T060000
END:STANDARD
END:VTIMEZONE
BEGIN:VEVENT
DTSTART;TZID=America/New_York:20260308T150000
DTEND;TZID=America/New_York:20260308T170000
DTSTAMP:20260422T044604
CREATED:20260219T170459Z
LAST-MODIFIED:20260219T174052Z
UID:10005374-1772982000-1772989200@www.fpccle.org
SUMMARY:From Prayerful Concern to Action: Showing Up for Cleveland's Immigrant Families
DESCRIPTION:Are you troubled by what’s happening to migrants\, refugees\, and immigrants across the country? Do you believe our neighbors deserve dignity instead of unjust detention and deportation? Are you ready to move beyond concern and take meaningful action? \n  \nSave the date for the Interfaith Prayer & Action Service \nSunday\, March 8th • 3:00 p.m. \nLocation To Be Announced \n  \nLocal faith leaders will gather us in prayer and truth-telling about what is really happening\, right now to migrants in Northeast Ohio. You’ll hear directly from those on the front lines and learn clear\, practical steps you can take to strengthen our local aid networks and support immigrant families with compassion and courage. Make your voice heard and reserve your spot below. \n  \nIf you’ve been wondering what to do in this moment\, this is your next step. Show up. Stand with your neighbors. Help build the beloved community we believe in.
URL:https://www.fpccle.org/event/from-prayerful-concern-to-action-showing-up-for-clevelands-immigrant-families/
ATTACH;FMTTYPE=image/png:https://www.fpccle.org/wp-content/uploads/2026/02/ICE-OUT.png
ORGANIZER;CN="Ryan Wallace":MAILTO:seniorpastor@fpccle.org
END:VEVENT
END:VCALENDAR