BEGIN:VCALENDAR
VERSION:2.0
PRODID:-//Fairmount Presbyterian Church - ECPv6.15.17.1//NONSGML v1.0//EN
CALSCALE:GREGORIAN
METHOD:PUBLISH
X-WR-CALNAME:Fairmount Presbyterian Church
X-ORIGINAL-URL:https://www.fpccle.org
X-WR-CALDESC:Events for Fairmount Presbyterian Church
REFRESH-INTERVAL;VALUE=DURATION:PT1H
X-Robots-Tag:noindex
X-PUBLISHED-TTL:PT1H
BEGIN:VTIMEZONE
TZID:America/New_York
BEGIN:DAYLIGHT
TZOFFSETFROM:-0500
TZOFFSETTO:-0400
TZNAME:EDT
DTSTART:20250309T070000
END:DAYLIGHT
BEGIN:STANDARD
TZOFFSETFROM:-0400
TZOFFSETTO:-0500
TZNAME:EST
DTSTART:20251102T060000
END:STANDARD
BEGIN:DAYLIGHT
TZOFFSETFROM:-0500
TZOFFSETTO:-0400
TZNAME:EDT
DTSTART:20260308T070000
END:DAYLIGHT
BEGIN:STANDARD
TZOFFSETFROM:-0400
TZOFFSETTO:-0500
TZNAME:EST
DTSTART:20261101T060000
END:STANDARD
BEGIN:DAYLIGHT
TZOFFSETFROM:-0500
TZOFFSETTO:-0400
TZNAME:EDT
DTSTART:20270314T070000
END:DAYLIGHT
BEGIN:STANDARD
TZOFFSETFROM:-0400
TZOFFSETTO:-0500
TZNAME:EST
DTSTART:20271107T060000
END:STANDARD
END:VTIMEZONE
BEGIN:VEVENT
DTSTART;TZID=America/New_York:20260401T173000
DTEND;TZID=America/New_York:20260401T183000
DTSTAMP:20260422T044917
CREATED:20260218T145451Z
LAST-MODIFIED:20260218T145451Z
UID:10005350-1775064600-1775068200@www.fpccle.org
SUMMARY:Faith Formation Council Meetings
DESCRIPTION:Faith Formation Council 2026 Meetings. \n5:30 p.m. to 6:30 p.m. on the following dates. \nApril 1st\nMay 6th\nJune 3rd\nJuly 1st\nAugust 5th\nSeptember 2nd\nOctober 7th\nNovember 4th\nDecember 12th
URL:https://www.fpccle.org/event/faith-formation-council-meetings/2026-04-01/
LOCATION:Fairmount Presbyterian Church\, 2757 Fairmount Blvd\, Cleveland Heights\, OH\, 44118-4098\, United States
CATEGORIES:Faith Formation Council
ATTACH;FMTTYPE=image/png:https://www.fpccle.org/wp-content/uploads/2026/02/ffcmeeting.png
END:VEVENT
END:VCALENDAR