BEGIN:VCALENDAR
VERSION:2.0
PRODID:-//Fairmount Presbyterian Church - ECPv6.15.17.1//NONSGML v1.0//EN
CALSCALE:GREGORIAN
METHOD:PUBLISH
X-WR-CALNAME:Fairmount Presbyterian Church
X-ORIGINAL-URL:https://www.fpccle.org
X-WR-CALDESC:Events for Fairmount Presbyterian Church
REFRESH-INTERVAL;VALUE=DURATION:PT1H
X-Robots-Tag:noindex
X-PUBLISHED-TTL:PT1H
BEGIN:VTIMEZONE
TZID:America/New_York
BEGIN:DAYLIGHT
TZOFFSETFROM:-0500
TZOFFSETTO:-0400
TZNAME:EDT
DTSTART:20250309T070000
END:DAYLIGHT
BEGIN:STANDARD
TZOFFSETFROM:-0400
TZOFFSETTO:-0500
TZNAME:EST
DTSTART:20251102T060000
END:STANDARD
BEGIN:DAYLIGHT
TZOFFSETFROM:-0500
TZOFFSETTO:-0400
TZNAME:EDT
DTSTART:20260308T070000
END:DAYLIGHT
BEGIN:STANDARD
TZOFFSETFROM:-0400
TZOFFSETTO:-0500
TZNAME:EST
DTSTART:20261101T060000
END:STANDARD
BEGIN:DAYLIGHT
TZOFFSETFROM:-0500
TZOFFSETTO:-0400
TZNAME:EDT
DTSTART:20270314T070000
END:DAYLIGHT
BEGIN:STANDARD
TZOFFSETFROM:-0400
TZOFFSETTO:-0500
TZNAME:EST
DTSTART:20271107T060000
END:STANDARD
END:VTIMEZONE
BEGIN:VEVENT
DTSTART;TZID=America/New_York:20260421T173000
DTEND;TZID=America/New_York:20260421T183000
DTSTAMP:20260421T062720
CREATED:20260410T190843Z
LAST-MODIFIED:20260410T190843Z
UID:10005456-1776792600-1776796200@www.fpccle.org
SUMMARY:Rush Hour Concert
DESCRIPTION:The final Rush Hour Concert of this season is Tuesday\, April 21\, 5:30pm with Jackson Naglick in a program of works for the piano.
URL:https://www.fpccle.org/event/rush-hour-concert-5/
LOCATION:Fairmount Presbyterian Church\, 2757 Fairmount Blvd\, Cleveland Heights\, OH\, 44118-4098\, United States
ATTACH;FMTTYPE=image/png:https://www.fpccle.org/wp-content/uploads/2025/09/rushhour25.png
END:VEVENT
END:VCALENDAR